BEGIN:VCALENDAR
VERSION:2.0
PRODID:-//Shiloh Museum of Ozark History - ECPv6.15.20//NONSGML v1.0//EN
CALSCALE:GREGORIAN
METHOD:PUBLISH
X-ORIGINAL-URL:https://shilohmuseum.org
X-WR-CALDESC:Events for Shiloh Museum of Ozark History
REFRESH-INTERVAL;VALUE=DURATION:PT1H
X-Robots-Tag:noindex
X-PUBLISHED-TTL:PT1H
BEGIN:VTIMEZONE
TZID:America/Chicago
BEGIN:DAYLIGHT
TZOFFSETFROM:-0600
TZOFFSETTO:-0500
TZNAME:CDT
DTSTART:20250309T080000
END:DAYLIGHT
BEGIN:STANDARD
TZOFFSETFROM:-0500
TZOFFSETTO:-0600
TZNAME:CST
DTSTART:20251102T070000
END:STANDARD
BEGIN:DAYLIGHT
TZOFFSETFROM:-0600
TZOFFSETTO:-0500
TZNAME:CDT
DTSTART:20260308T080000
END:DAYLIGHT
BEGIN:STANDARD
TZOFFSETFROM:-0500
TZOFFSETTO:-0600
TZNAME:CST
DTSTART:20261101T070000
END:STANDARD
BEGIN:DAYLIGHT
TZOFFSETFROM:-0600
TZOFFSETTO:-0500
TZNAME:CDT
DTSTART:20270314T080000
END:DAYLIGHT
BEGIN:STANDARD
TZOFFSETFROM:-0500
TZOFFSETTO:-0600
TZNAME:CST
DTSTART:20271107T070000
END:STANDARD
END:VTIMEZONE
BEGIN:VEVENT
DTSTART;TZID=America/Chicago:20260420T100000
DTEND;TZID=America/Chicago:20260420T103000
DTSTAMP:20260420T004454
CREATED:20260226T215359Z
LAST-MODIFIED:20260226T222450Z
UID:10000746-1776679200-1776681000@shilohmuseum.org
SUMMARY:Little Historians: Plowing and Planting
DESCRIPTION:Join us in the Meeting Room for the debut of our Little Historians series for children ages 4-6. This gathering\, titled Plowing and Planting\, will feature a short history lesson on the early settlers of the Ozarks and their planting practices. We’ll have stories and age-appropriate hands-on activities\, including examining artifacts. Kids and their caregivers will learn through a new theme each month. No registration is required.
URL:https://shilohmuseum.org/event/little-historians-plowing-and-planting/
LOCATION:Shiloh Museum of Ozark History\, 118 W Johnson Ave\, Springdale\, AR\, 72764\, United States
CATEGORIES:Little Historians
ATTACH;FMTTYPE=image/png:https://shilohmuseum.org/wp-content/uploads/2026/02/Your-paragraph-text-4.png
END:VEVENT
END:VCALENDAR