BEGIN:VCALENDAR
VERSION:2.0
PRODID:-//Shiloh Museum of Ozark History - ECPv6.15.20//NONSGML v1.0//EN
CALSCALE:GREGORIAN
METHOD:PUBLISH
X-ORIGINAL-URL:https://shilohmuseum.org
X-WR-CALDESC:Events for Shiloh Museum of Ozark History
REFRESH-INTERVAL;VALUE=DURATION:PT1H
X-Robots-Tag:noindex
X-PUBLISHED-TTL:PT1H
BEGIN:VTIMEZONE
TZID:America/Chicago
BEGIN:DAYLIGHT
TZOFFSETFROM:-0600
TZOFFSETTO:-0500
TZNAME:CDT
DTSTART:20250309T080000
END:DAYLIGHT
BEGIN:STANDARD
TZOFFSETFROM:-0500
TZOFFSETTO:-0600
TZNAME:CST
DTSTART:20251102T070000
END:STANDARD
BEGIN:DAYLIGHT
TZOFFSETFROM:-0600
TZOFFSETTO:-0500
TZNAME:CDT
DTSTART:20260308T080000
END:DAYLIGHT
BEGIN:STANDARD
TZOFFSETFROM:-0500
TZOFFSETTO:-0600
TZNAME:CST
DTSTART:20261101T070000
END:STANDARD
BEGIN:DAYLIGHT
TZOFFSETFROM:-0600
TZOFFSETTO:-0500
TZNAME:CDT
DTSTART:20270314T080000
END:DAYLIGHT
BEGIN:STANDARD
TZOFFSETFROM:-0500
TZOFFSETTO:-0600
TZNAME:CST
DTSTART:20271107T070000
END:STANDARD
END:VTIMEZONE
BEGIN:VEVENT
DTSTART;TZID=America/Chicago:20260511T100000
DTEND;TZID=America/Chicago:20260511T110000
DTSTAMP:20260420T021520
CREATED:20260408T165009Z
LAST-MODIFIED:20260408T165009Z
UID:10000752-1778493600-1778497200@shilohmuseum.org
SUMMARY:Little Historians: Cows\, Milk\, and Butter
DESCRIPTION:Moo-ve on over to the Shiloh Museum for a hands-on exploration of farm life! This month\, our Little Historians series introduces Pre-K students (ages 4–6) to the fascinating life science of cows with Cows\, Milk\, and Butter! \nChildren will discover the vital role dairy played in early Ozark homes. The gathering will feature an engaging storybook session and a close-up look at authentic artifacts from our education collection. The highlight of the morning? A chance to meet our realistically painted milk cow\, Buttercup\, and practice the art of milking! \nThis program is designed to spark curiosity through tactile learning and play. No registration is required.
URL:https://shilohmuseum.org/event/little-historians-cows-milk-and-butter/
LOCATION:Shiloh Museum of Ozark History\, 118 W Johnson Ave\, Springdale\, AR\, 72764\, United States
CATEGORIES:Little Historians
ATTACH;FMTTYPE=image/png:https://shilohmuseum.org/wp-content/uploads/2026/04/Little-Historians-Cows-Milk-and-Butter.png
END:VEVENT
END:VCALENDAR