BEGIN:VCALENDAR
VERSION:2.0
PRODID:-//Shiloh Museum of Ozark History - ECPv6.15.20//NONSGML v1.0//EN
CALSCALE:GREGORIAN
METHOD:PUBLISH
X-ORIGINAL-URL:https://shilohmuseum.org
X-WR-CALDESC:Events for Shiloh Museum of Ozark History
REFRESH-INTERVAL;VALUE=DURATION:PT1H
X-Robots-Tag:noindex
X-PUBLISHED-TTL:PT1H
BEGIN:VTIMEZONE
TZID:America/Chicago
BEGIN:DAYLIGHT
TZOFFSETFROM:-0600
TZOFFSETTO:-0500
TZNAME:CDT
DTSTART:20250309T080000
END:DAYLIGHT
BEGIN:STANDARD
TZOFFSETFROM:-0500
TZOFFSETTO:-0600
TZNAME:CST
DTSTART:20251102T070000
END:STANDARD
BEGIN:DAYLIGHT
TZOFFSETFROM:-0600
TZOFFSETTO:-0500
TZNAME:CDT
DTSTART:20260308T080000
END:DAYLIGHT
BEGIN:STANDARD
TZOFFSETFROM:-0500
TZOFFSETTO:-0600
TZNAME:CST
DTSTART:20261101T070000
END:STANDARD
BEGIN:DAYLIGHT
TZOFFSETFROM:-0600
TZOFFSETTO:-0500
TZNAME:CDT
DTSTART:20270314T080000
END:DAYLIGHT
BEGIN:STANDARD
TZOFFSETFROM:-0500
TZOFFSETTO:-0600
TZNAME:CST
DTSTART:20271107T070000
END:STANDARD
END:VTIMEZONE
BEGIN:VEVENT
DTSTART;TZID=America/Chicago:20260205T080000
DTEND;TZID=America/Chicago:20260321T170000
DTSTAMP:20260423T170623
CREATED:20260107T170816Z
LAST-MODIFIED:20260313T201655Z
UID:10000008-1770278400-1774112400@shilohmuseum.org
SUMMARY:Building History: Museum Closed
DESCRIPTION:The Shiloh Museum of Ozark History is undergoing an exciting physical transformation. To accommodate this work\, the museum’s main building will be closed to the public from February 5 to March 21\, 2026.  During the renovation period\, the historic 1871 Shiloh Meeting Hall will be open on select dates\, giving visitors a special opportunity to explore this landmark and its exhibits. Dates and times will be announced soon. \nAs the nation prepares to celebrate America’s 250th anniversary\, Shiloh is investing in improvements that will enhance the visitor experience\, including increased accessibility\, updated restrooms\, a remodeled reception area\, new carpeting\, and more. \nThese renovations build on recent milestones\, including a new logo\, redesigned website and a searchable collections database. Visitors are also invited to look ahead to Shiloh’s major America 250 celebration coming in July. Stay tuned for details as we continue building history together!
URL:https://shilohmuseum.org/event/building-history-museum-closed/
LOCATION:AR
ATTACH;FMTTYPE=image/png:https://shilohmuseum.org/wp-content/uploads/2026/01/Building-History-web-graphic-UPDATED-1280-x-820-px.png
END:VEVENT
END:VCALENDAR